Workbook

Sheet Wyniki
A1: KWESTIONARIUSZ 10–12/O-m/S - średnie z badań grupowych
A3: Szkoła
A4: Klasa
A6: Wyniki w skalach
A7: Skala | B7: Średnia | C7: Centyl
A8: Dobrostan | C8: =HLOOKUP(B8,Normy!A50:CU51,2,TRUE) -> #N/A
A9: Problemy eksternalizacyjne | C9: =HLOOKUP(B9,Normy!A2:CU3,2,TRUE) -> #N/A
A10: Problemy internalizacyjne | C10: =HLOOKUP(B10,Normy!A18:CU19,2,TRUE) -> #N/A
A11: Problemy psychasteniczne | C11: =HLOOKUP(B11,Normy!A34:CU35,2,TRUE) -> #N/A
A13: Wyniki w podskalach
A14: Skala | B14: Średnia | C14: Centyl | D14: Wynik podwyższony | E14: Wynik wysoki | F14: Wynik obniżony | G14: Wynik niski
A15: Dobrostan społeczny | C15: =HLOOKUP(B15,Normy!A54:CU55,2,TRUE) -> #N/A | D15: 69 | E15: 84 | F15: 31 | G15: 16
A16: Dobrostan holistyczny | C16: =HLOOKUP(B16,Normy!A58:CU59,2,TRUE) -> #N/A | D16: 69 | E16: 84 | F16: 31 | G16: 16
A17: Dobrostan osobisty | C17: =HLOOKUP(B17,Normy!A62:CU63,2,TRUE) -> #N/A | D17: 69 | E17: 84 | F17: 31 | G17: 16
A19: Nadaktywność i impulsywność | C19: =HLOOKUP(B19,Normy!A6:CU7,2,TRUE) -> #N/A | D19: 69 | E19: 84
A20: Agresja bezpośrednia | C20: =HLOOKUP(B20,Normy!A10:CU11,2,TRUE) -> #N/A | D20: 69 | E20: 84
A21: Zachowania antyspołeczne | C21: =HLOOKUP(B21,Normy!A14:CU15,2,TRUE) -> #N/A | D21: 69 | E21: 84
D22: 69 | E22: 84
A23: Nieufność-ksobność | C23: =HLOOKUP(B23,Normy!A22:CU23,2,TRUE) -> #N/A | D23: 69 | E23: 84
A24: Lęk-depresja | C24: =HLOOKUP(B24,Normy!A26:CU27,2,TRUE) -> #N/A | D24: 69 | E24: 84
A25: Zahamowanie społeczne | C25: =HLOOKUP(B25,Normy!A30:CU31,2,TRUE) -> #N/A | D25: 69 | E25: 84
D26: 69 | E26: 84
A27: Anhedonia | C27: =HLOOKUP(B27,Normy!A38:CU39,2,TRUE) -> #N/A | D27: 69 | E27: 84
A28: Submisyjność | C28: =HLOOKUP(B28,Normy!A42:CU43,2,TRUE) -> #N/A | D28: 69 | E28: 84
A29: Kompulsywność | C29: =HLOOKUP(B29,Normy!A46:CU47,2,TRUE) -> #N/A | D29: 69 | E29: 84

Sheet Wykres
B1: ćwiartki | C1: 1 | D1: 2 | E1: 3 | F1: 4 | G1: 5 | H1: 6 | I1: 7 | J1: 8 | K1: 9 | L1: 10 | M1: 11 | N1: 12 | O1: 13 | P1: 14 | Q1: 15 | R1: 16 | S1: 17 | T1: 18 | U1: 19 | V1: 20 | W1: 21 | X1: 22 | Y1: 23 | Z1: 24 | AA1: 25 | AB1: 26 | AC1: 27 | AD1: 28 | AE1: 29 | AF1: 30 | AG1: 31 | AH1: 32 | AI1: 33 | AJ1: 34 | AK1: 35 | AL1: 36 | AM1: 37 | AN1: 38 | AO1: 39 | AP1: 40 | AQ1: 41 | AR1: 42 | AS1: 43 | AT1: 44 | AU1: 45 | AV1: 46 | AW1: 47 | AX1: 48 | AY1: 49 | AZ1: 50
A2: 50 | B2: 1a | C2: =IF($A2>=C$1,1,0) -> 1 | D2: =IF($A2>=D$1,1,0) -> 1 | E2: =IF($A2>=E$1,1,0) -> 1 | F2: =IF($A2>=F$1,1,0) -> 1 | G2: =IF($A2>=G$1,1,0) -> 1 | H2: =IF($A2>=H$1,1,0) -> 1 | I2: =IF($A2>=I$1,1,0) -> 1 | J2: =IF($A2>=J$1,1,0) -> 1 | ... AZ2: =IF($A2>=AZ$1,1,0) -> 1
A3: 50 | B3: 1b | C3: =IF($A3<C$1,1,0) -> 0 | D3: =IF($A3<D$1,1,0) -> 0 | E3: =IF($A3<E$1,1,0) -> 0 | F3: =IF($A3<F$1,1,0) -> 0 | G3: =IF($A3<G$1,1,0) -> 0 | H3: =IF($A3<H$1,1,0) -> 0 | I3: =IF($A3<I$1,1,0) -> 0 | J3: =IF($A3<J$1,1,0) -> 0 | ... AZ3: =IF($A3<AZ$1,1,0) -> 0
A4: 50 | B4: 2a | C4: =IF($A4>=C$1,1,0) -> 1 | D4: =IF($A4>=D$1,1,0) -> 1 | E4: =IF($A4>=E$1,1,0) -> 1 | F4: =IF($A4>=F$1,1,0) -> 1 | G4: =IF($A4>=G$1,1,0) -> 1 | H4: =IF($A4>=H$1,1,0) -> 1 | I4: =IF($A4>=I$1,1,0) -> 1 | J4: =IF($A4>=J$1,1,0) -> 1 | ... AZ4: =IF($A4>=AZ$1,1,0) -> 1
A5: 50 | B5: 2b | C5: =IF($A5<C$1,1,0) -> 0 | D5: =IF($A5<D$1,1,0) -> 0 | E5: =IF($A5<E$1,1,0) -> 0 | F5: =IF($A5<F$1,1,0) -> 0 | G5: =IF($A5<G$1,1,0) -> 0 | H5: =IF($A5<H$1,1,0) -> 0 | I5: =IF($A5<I$1,1,0) -> 0 | J5: =IF($A5<J$1,1,0) -> 0 | ... AZ5: =IF($A5<AZ$1,1,0) -> 0
A6: 50 | B6: 3a | C6: =IF($A6>=C$1,1,0) -> 1 | D6: =IF($A6>=D$1,1,0) -> 1 | E6: =IF($A6>=E$1,1,0) -> 1 | F6: =IF($A6>=F$1,1,0) -> 1 | G6: =IF($A6>=G$1,1,0) -> 1 | H6: =IF($A6>=H$1,1,0) -> 1 | I6: =IF($A6>=I$1,1,0) -> 1 | J6: =IF($A6>=J$1,1,0) -> 1 | ... AZ6: =IF($A6>=AZ$1,1,0) -> 1
A7: 50 | B7: 3b | C7: =IF($A7<C$1,1,0) -> 0 | D7: =IF($A7<D$1,1,0) -> 0 | E7: =IF($A7<E$1,1,0) -> 0 | F7: =IF($A7<F$1,1,0) -> 0 | G7: =IF($A7<G$1,1,0) -> 0 | H7: =IF($A7<H$1,1,0) -> 0 | I7: =IF($A7<I$1,1,0) -> 0 | J7: =IF($A7<J$1,1,0) -> 0 | ... AZ7: =IF($A7<AZ$1,1,0) -> 0
A8: =ROUNDUP(1/2*Wyniki!C8,0) -> #N/A | B8: 4a | C8: =IF($A8>=C$1,1,0) -> #N/A | D8: =IF($A8>=D$1,1,0) -> #N/A | E8: =IF($A8>=E$1,1,0) -> #N/A | F8: =IF($A8>=F$1,1,0) -> #N/A | G8: =IF($A8>=G$1,1,0) -> #N/A | H8: =IF($A8>=H$1,1,0) -> #N/A | I8: =IF($A8>=I$1,1,0) -> #N/A | J8: =IF($A8>=J$1,1,0) -> #N/A | ... AZ8: =IF($A8>=AZ$1,1,0) -> #N/A
A9: =ROUNDUP(1/2*Wyniki!C8,0) -> #N/A | B9: 4b | C9: =IF($A9<C$1,1,0) -> #N/A | D9: =IF($A9<D$1,1,0) -> #N/A | E9: =IF($A9<E$1,1,0) -> #N/A | F9: =IF($A9<F$1,1,0) -> #N/A | G9: =IF($A9<G$1,1,0) -> #N/A | H9: =IF($A9<H$1,1,0) -> #N/A | I9: =IF($A9<I$1,1,0) -> #N/A | J9: =IF($A9<J$1,1,0) -> #N/A | ... AZ9: =IF($A9<AZ$1,1,0) -> #N/A
A10: =ROUNDUP(1/2*Wyniki!C8,0) -> #N/A | B10: 5a | C10: =IF($A10>=C$1,1,0) -> #N/A | D10: =IF($A10>=D$1,1,0) -> #N/A | E10: =IF($A10>=E$1,1,0) -> #N/A | F10: =IF($A10>=F$1,1,0) -> #N/A | G10: =IF($A10>=G$1,1,0) -> #N/A | H10: =IF($A10>=H$1,1,0) -> #N/A | I10: =IF($A10>=I$1,1,0) -> #N/A | J10: =IF($A10>=J$1,1,0) -> #N/A | ... AZ10: =IF($A10>=AZ$1,1,0) -> #N/A
A11: =ROUNDUP(1/2*Wyniki!C8,0) -> #N/A | B11: 5b | C11: =IF($A11<C$1,1,0) -> #N/A | D11: =IF($A11<D$1,1,0) -> #N/A | E11: =IF($A11<E$1,1,0) -> #N/A | F11: =IF($A11<F$1,1,0) -> #N/A | G11: =IF($A11<G$1,1,0) -> #N/A | H11: =IF($A11<H$1,1,0) -> #N/A | I11: =IF($A11<I$1,1,0) -> #N/A | J11: =IF($A11<J$1,1,0) -> #N/A | ... AZ11: =IF($A11<AZ$1,1,0) -> #N/A
A12: 50 | B12: 6a | C12: =IF($A12>=C$1,1,0) -> 1 | D12: =IF($A12>=D$1,1,0) -> 1 | E12: =IF($A12>=E$1,1,0) -> 1 | F12: =IF($A12>=F$1,1,0) -> 1 | G12: =IF($A12>=G$1,1,0) -> 1 | H12: =IF($A12>=H$1,1,0) -> 1 | I12: =IF($A12>=I$1,1,0) -> 1 | J12: =IF($A12>=J$1,1,0) -> 1 | ... AZ12: =IF($A12>=AZ$1,1,0) -> 1
A13: 50 | B13: 6b | C13: =IF($A13<C$1,1,0) -> 0 | D13: =IF($A13<D$1,1,0) -> 0 | E13: =IF($A13<E$1,1,0) -> 0 | F13: =IF($A13<F$1,1,0) -> 0 | G13: =IF($A13<G$1,1,0) -> 0 | H13: =IF($A13<H$1,1,0) -> 0 | I13: =IF($A13<I$1,1,0) -> 0 | J13: =IF($A13<J$1,1,0) -> 0 | ... AZ13: =IF($A13<AZ$1,1,0) -> 0
A14: 50 | B14: 7a | C14: =IF($A14>=C$1,1,0) -> 1 | D14: =IF($A14>=D$1,1,0) -> 1 | E14: =IF($A14>=E$1,1,0) -> 1 | F14: =IF($A14>=F$1,1,0) -> 1 | G14: =IF($A14>=G$1,1,0) -> 1 | H14: =IF($A14>=H$1,1,0) -> 1 | I14: =IF($A14>=I$1,1,0) -> 1 | J14: =IF($A14>=J$1,1,0) -> 1 | ... AZ14: =IF($A14>=AZ$1,1,0) -> 1
A15: 50 | B15: 7b | C15: =IF($A15<C$1,1,0) -> 0 | D15: =IF($A15<D$1,1,0) -> 0 | E15: =IF($A15<E$1,1,0) -> 0 | F15: =IF($A15<F$1,1,0) -> 0 | G15: =IF($A15<G$1,1,0) -> 0 | H15: =IF($A15<H$1,1,0) -> 0 | I15: =IF($A15<I$1,1,0) -> 0 | J15: =IF($A15<J$1,1,0) -> 0 | ... AZ15: =IF($A15<AZ$1,1,0) -> 0
A16: 50 | B16: 8a | C16: =IF($A16>=C$1,1,0) -> 1 | D16: =IF($A16>=D$1,1,0) -> 1 | E16: =IF($A16>=E$1,1,0) -> 1 | F16: =IF($A16>=F$1,1,0) -> 1 | G16: =IF($A16>=G$1,1,0) -> 1 | H16: =IF($A16>=H$1,1,0) -> 1 | I16: =IF($A16>=I$1,1,0) -> 1 | J16: =IF($A16>=J$1,1,0) -> 1 | ... AZ16: =IF($A16>=AZ$1,1,0) -> 1
A17: 50 | B17: 8b | C17: =IF($A17<C$1,1,0) -> 0 | D17: =IF($A17<D$1,1,0) -> 0 | E17: =IF($A17<E$1,1,0) -> 0 | F17: =IF($A17<F$1,1,0) -> 0 | G17: =IF($A17<G$1,1,0) -> 0 | H17: =IF($A17<H$1,1,0) -> 0 | I17: =IF($A17<I$1,1,0) -> 0 | J17: =IF($A17<J$1,1,0) -> 0 | ... AZ17: =IF($A17<AZ$1,1,0) -> 0
A18: 50 | B18: 9a | C18: =IF($A18>=C$1,1,0) -> 1 | D18: =IF($A18>=D$1,1,0) -> 1 | E18: =IF($A18>=E$1,1,0) -> 1 | F18: =IF($A18>=F$1,1,0) -> 1 | G18: =IF($A18>=G$1,1,0) -> 1 | H18: =IF($A18>=H$1,1,0) -> 1 | I18: =IF($A18>=I$1,1,0) -> 1 | J18: =IF($A18>=J$1,1,0) -> 1 | ... AZ18: =IF($A18>=AZ$1,1,0) -> 1
A19: 50 | B19: 9b | C19: =IF($A19<C$1,1,0) -> 0 | D19: =IF($A19<D$1,1,0) -> 0 | E19: =IF($A19<E$1,1,0) -> 0 | F19: =IF($A19<F$1,1,0) -> 0 | G19: =IF($A19<G$1,1,0) -> 0 | H19: =IF($A19<H$1,1,0) -> 0 | I19: =IF($A19<I$1,1,0) -> 0 | J19: =IF($A19<J$1,1,0) -> 0 | ... AZ19: =IF($A19<AZ$1,1,0) -> 0
A20: 50 | B20: 10a | C20: =IF($A20>=C$1,1,0) -> 1 | D20: =IF($A20>=D$1,1,0) -> 1 | E20: =IF($A20>=E$1,1,0) -> 1 | F20: =IF($A20>=F$1,1,0) -> 1 | G20: =IF($A20>=G$1,1,0) -> 1 | H20: =IF($A20>=H$1,1,0) -> 1 | I20: =IF($A20>=I$1,1,0) -> 1 | J20: =IF($A20>=J$1,1,0) -> 1 | ... AZ20: =IF($A20>=AZ$1,1,0) -> 1
A21: 50 | B21: 10b | C21: =IF($A21<C$1,1,0) -> 0 | D21: =IF($A21<D$1,1,0) -> 0 | E21: =IF($A21<E$1,1,0) -> 0 | F21: =IF($A21<F$1,1,0) -> 0 | G21: =IF($A21<G$1,1,0) -> 0 | H21: =IF($A21<H$1,1,0) -> 0 | I21: =IF($A21<I$1,1,0) -> 0 | J21: =IF($A21<J$1,1,0) -> 0 | ... AZ21: =IF($A21<AZ$1,1,0) -> 0
A22: 50 | B22: 11a | C22: =IF($A22>=C$1,1,0) -> 1 | D22: =IF($A22>=D$1,1,0) -> 1 | E22: =IF($A22>=E$1,1,0) -> 1 | F22: =IF($A22>=F$1,1,0) -> 1 | G22: =IF($A22>=G$1,1,0) -> 1 | H22: =IF($A22>=H$1,1,0) -> 1 | I22: =IF($A22>=I$1,1,0) -> 1 | J22: =IF($A22>=J$1,1,0) -> 1 | ... AZ22: =IF($A22>=AZ$1,1,0) -> 1
A23: 50 | B23: 11b | C23: =IF($A23<C$1,1,0) -> 0 | D23: =IF($A23<D$1,1,0) -> 0 | E23: =IF($A23<E$1,1,0) -> 0 | F23: =IF($A23<F$1,1,0) -> 0 | G23: =IF($A23<G$1,1,0) -> 0 | H23: =IF($A23<H$1,1,0) -> 0 | I23: =IF($A23<I$1,1,0) -> 0 | J23: =IF($A23<J$1,1,0) -> 0 | ... AZ23: =IF($A23<AZ$1,1,0) -> 0
A24: 50 | B24: 12a | C24: =IF($A24>=C$1,1,0) -> 1 | D24: =IF($A24>=D$1,1,0) -> 1 | E24: =IF($A24>=E$1,1,0) -> 1 | F24: =IF($A24>=F$1,1,0) -> 1 | G24: =IF($A24>=G$1,1,0) -> 1 | H24: =IF($A24>=H$1,1,0) -> 1 | I24: =IF($A24>=I$1,1,0) -> 1 | J24: =IF($A24>=J$1,1,0) -> 1 | ... AZ24: =IF($A24>=AZ$1,1,0) -> 1
A25: 50 | B25: 12b | C25: =IF($A25<C$1,1,0) -> 0 | D25: =IF($A25<D$1,1,0) -> 0 | E25: =IF($A25<E$1,1,0) -> 0 | F25: =IF($A25<F$1,1,0) -> 0 | G25: =IF($A25<G$1,1,0) -> 0 | H25: =IF($A25<H$1,1,0) -> 0 | I25: =IF($A25<I$1,1,0) -> 0 | J25: =IF($A25<J$1,1,0) -> 0 | ... AZ25: =IF($A25<AZ$1,1,0) -> 0
A26: 50 | B26: 13a | C26: =IF($A26>=C$1,1,0) -> 1 | D26: =IF($A26>=D$1,1,0) -> 1 | E26: =IF($A26>=E$1,1,0) -> 1 | F26: =IF($A26>=F$1,1,0) -> 1 | G26: =IF($A26>=G$1,1,0) -> 1 | H26: =IF($A26>=H$1,1,0) -> 1 | I26: =IF($A26>=I$1,1,0) -> 1 | J26: =IF($A26>=J$1,1,0) -> 1 | ... AZ26: =IF($A26>=AZ$1,1,0) -> 1
A27: 50 | B27: 13b | C27: =IF($A27<C$1,1,0) -> 0 | D27: =IF($A27<D$1,1,0) -> 0 | E27: =IF($A27<E$1,1,0) -> 0 | F27: =IF($A27<F$1,1,0) -> 0 | G27: =IF($A27<G$1,1,0) -> 0 | H27: =IF($A27<H$1,1,0) -> 0 | I27: =IF($A27<I$1,1,0) -> 0 | J27: =IF($A27<J$1,1,0) -> 0 | ... AZ27: =IF($A27<AZ$1,1,0) -> 0
A28: =ROUNDUP(1/2*Wyniki!C9,0) -> #N/A | B28: 14a | C28: =IF($A28>=C$1,1,0) -> #N/A | D28: =IF($A28>=D$1,1,0) -> #N/A | E28: =IF($A28>=E$1,1,0) -> #N/A | F28: =IF($A28>=F$1,1,0) -> #N/A | G28: =IF($A28>=G$1,1,0) -> #N/A | H28: =IF($A28>=H$1,1,0) -> #N/A | I28: =IF($A28>=I$1,1,0) -> #N/A | J28: =IF($A28>=J$1,1,0) -> #N/A | ... AZ28: =IF($A28>=AZ$1,1,0) -> #N/A
A29: =ROUNDUP(1/2*Wyniki!C9,0) -> #N/A | B29: 14b | C29: =IF($A29<C$1,1,0) -> #N/A | D29: =IF($A29<D$1,1,0) -> #N/A | E29: =IF($A29<E$1,1,0) -> #N/A | F29: =IF($A29<F$1,1,0) -> #N/A | G29: =IF($A29<G$1,1,0) -> #N/A | H29: =IF($A29<H$1,1,0) -> #N/A | I29: =IF($A29<I$1,1,0) -> #N/A | J29: =IF($A29<J$1,1,0) -> #N/A | ... AZ29: =IF($A29<AZ$1,1,0) -> #N/A
A30: =ROUNDUP(1/2*Wyniki!C9,0) -> #N/A | B30: 15a | C30: =IF($A30>=C$1,1,0) -> #N/A | D30: =IF($A30>=D$1,1,0) -> #N/A | E30: =IF($A30>=E$1,1,0) -> #N/A | F30: =IF($A30>=F$1,1,0) -> #N/A | G30: =IF($A30>=G$1,1,0) -> #N/A | H30: =IF($A30>=H$1,1,0) -> #N/A | I30: =IF($A30>=I$1,1,0) -> #N/A | J30: =IF($A30>=J$1,1,0) -> #N/A | ... AZ30: =IF($A30>=AZ$1,1,0) -> #N/A
A31: =ROUNDUP(1/2*Wyniki!C9,0) -> #N/A | B31: 15b | C31: =IF($A31<C$1,1,0) -> #N/A | D31: =IF($A31<D$1,1,0) -> #N/A | E31: =IF($A31<E$1,1,0) -> #N/A | F31: =IF($A31<F$1,1,0) -> #N/A | G31: =IF($A31<G$1,1,0) -> #N/A | H31: =IF($A31<H$1,1,0) -> #N/A | I31: =IF($A31<I$1,1,0) -> #N/A | J31: =IF($A31<J$1,1,0) -> #N/A | ... AZ31: =IF($A31<AZ$1,1,0) -> #N/A
A32: 50 | B32: 16a | C32: =IF($A32>=C$1,1,0) -> 1 | D32: =IF($A32>=D$1,1,0) -> 1 | E32: =IF($A32>=E$1,1,0) -> 1 | F32: =IF($A32>=F$1,1,0) -> 1 | G32: =IF($A32>=G$1,1,0) -> 1 | H32: =IF($A32>=H$1,1,0) -> 1 | I32: =IF($A32>=I$1,1,0) -> 1 | J32: =IF($A32>=J$1,1,0) -> 1 | ... AZ32: =IF($A32>=AZ$1,1,0) -> 1
A33: 50 | B33: 16b | C33: =IF($A33<C$1,1,0) -> 0 | D33: =IF($A33<D$1,1,0) -> 0 | E33: =IF($A33<E$1,1,0) -> 0 | F33: =IF($A33<F$1,1,0) -> 0 | G33: =IF($A33<G$1,1,0) -> 0 | H33: =IF($A33<H$1,1,0) -> 0 | I33: =IF($A33<I$1,1,0) -> 0 | J33: =IF($A33<J$1,1,0) -> 0 | ... AZ33: =IF($A33<AZ$1,1,0) -> 0
A34: 50 | B34: 17a | C34: =IF($A34>=C$1,1,0) -> 1 | D34: =IF($A34>=D$1,1,0) -> 1 | E34: =IF($A34>=E$1,1,0) -> 1 | F34: =IF($A34>=F$1,1,0) -> 1 | G34: =IF($A34>=G$1,1,0) -> 1 | H34: =IF($A34>=H$1,1,0) -> 1 | I34: =IF($A34>=I$1,1,0) -> 1 | J34: =IF($A34>=J$1,1,0) -> 1 | ... AZ34: =IF($A34>=AZ$1,1,0) -> 1
A35: 50 | B35: 17b | C35: =IF($A35<C$1,1,0) -> 0 | D35: =IF($A35<D$1,1,0) -> 0 | E35: =IF($A35<E$1,1,0) -> 0 | F35: =IF($A35<F$1,1,0) -> 0 | G35: =IF($A35<G$1,1,0) -> 0 | H35: =IF($A35<H$1,1,0) -> 0 | I35: =IF($A35<I$1,1,0) -> 0 | J35: =IF($A35<J$1,1,0) -> 0 | ... AZ35: =IF($A35<AZ$1,1,0) -> 0
A36: 50 | B36: 18a | C36: =IF($A36>=C$1,1,0) -> 1 | D36: =IF($A36>=D$1,1,0) -> 1 | E36: =IF($A36>=E$1,1,0) -> 1 | F36: =IF($A36>=F$1,1,0) -> 1 | G36: =IF($A36>=G$1,1,0) -> 1 | H36: =IF($A36>=H$1,1,0) -> 1 | I36: =IF($A36>=I$1,1,0) -> 1 | J36: =IF($A36>=J$1,1,0) -> 1 | ... AZ36: =IF($A36>=AZ$1,1,0) -> 1
A37: 50 | B37: 18b | C37: =IF($A37<C$1,1,0) -> 0 | D37: =IF($A37<D$1,1,0) -> 0 | E37: =IF($A37<E$1,1,0) -> 0 | F37: =IF($A37<F$1,1,0) -> 0 | G37: =IF($A37<G$1,1,0) -> 0 | H37: =IF($A37<H$1,1,0) -> 0 | I37: =IF($A37<I$1,1,0) -> 0 | J37: =IF($A37<J$1,1,0) -> 0 | ... AZ37: =IF($A37<AZ$1,1,0) -> 0
A38: 50 | B38: 19a | C38: =IF($A38>=C$1,1,0) -> 1 | D38: =IF($A38>=D$1,1,0) -> 1 | E38: =IF($A38>=E$1,1,0) -> 1 | F38: =IF($A38>=F$1,1,0) -> 1 | G38: =IF($A38>=G$1,1,0) -> 1 | H38: =IF($A38>=H$1,1,0) -> 1 | I38: =IF($A38>=I$1,1,0) -> 1 | J38: =IF($A38>=J$1,1,0) -> 1 | ... AZ38: =IF($A38>=AZ$1,1,0) -> 1
A39: 50 | B39: 19b | C39: =IF($A39<C$1,1,0) -> 0 | D39: =IF($A39<D$1,1,0) -> 0 | E39: =IF($A39<E$1,1,0) -> 0 | F39: =IF($A39<F$1,1,0) -> 0 | G39: =IF($A39<G$1,1,0) -> 0 | H39: =IF($A39<H$1,1,0) -> 0 | I39: =IF($A39<I$1,1,0) -> 0 | J39: =IF($A39<J$1,1,0) -> 0 | ... AZ39: =IF($A39<AZ$1,1,0) -> 0
A40: =ROUNDUP(1/2*Wyniki!C10,0) -> #N/A | B40: 20a | C40: =IF($A40>=C$1,1,0) -> #N/A | D40: =IF($A40>=D$1,1,0) -> #N/A | E40: =IF($A40>=E$1,1,0) -> #N/A | F40: =IF($A40>=F$1,1,0) -> #N/A | G40: =IF($A40>=G$1,1,0) -> #N/A | H40: =IF($A40>=H$1,1,0) -> #N/A | I40: =IF($A40>=I$1,1,0) -> #N/A | J40: =IF($A40>=J$1,1,0) -> #N/A | ... AZ40: =IF($A40>=AZ$1,1,0) -> #N/A
...

Sheet Normy
A1: PROBLEMY EKSTERNALIZACYJNE
A2: 1 | C2: 1.04 | F2: 1.07 | I2: 1.11 | M2: 1.15 | Q2: 1.19 | T2: 1.22 | V2: 1.23 | X2: 1.26 | AB2: 1.3 | AE2: 1.33 | AH2: 1.37 | AI2: 1.38 | AK2: 1.41 | AN2: 1.44 | AQ2: 1.48 | AT2: 1.52 | AV2: 1.56 | AX2: 1.58 | AY2: 1.59 | BA2: 1.63 | BC2: 1.67 | BD2: 1.7 | BF2: 1.74 | BG2: 1.77 | BH2: 1.78 | BJ2: 1.81 | BK2: 1.84 | BL2: 1.85 | BM2: 1.89 | BN2: 1.93 | BP2: 1.96 | BQ2: 2 | BS2: 2.04 | BT2: 2.04 | BU2: 2.07 | BW2: 2.11 | BX2: 2.15 | BY2: 2.19 | BZ2: 2.22 | CA2: 2.26 | CB2: 2.33 | CC2: 2.37 | CD2: 2.41 | CE2: 2.44 | CF2: 2.46 | CG2: 2.48 | CH2: 2.52 | CI2: 2.59 | CJ2: 2.6 | CK2: 2.67 | CL2: 2.7 | CM2: 2.74 | CN2: 2.85 | CO2: 2.91 | CP2: 3 | CQ2: 3.15 | CR2: 3.37 | CS2: 3.44 | CT2: 3.59 | CU2: 3.89 | CV2: 4.41
A3: 1 | B3: 2 | C3: 3 | D3: 4 | E3: 5 | F3: 6 | G3: 7 | H3: 8 | I3: 9 | J3: 10 | K3: 11 | L3: 12 | M3: 13 | N3: 14 | O3: 15 | P3: 16 | Q3: 17 | R3: 18 | S3: 19 | T3: 20 | U3: 21 | V3: 22 | W3: 23 | X3: 24 | Y3: 25 | Z3: 26 | AA3: 27 | AB3: 28 | AC3: 29 | AD3: 30 | AE3: 31 | AF3: 32 | AG3: 33 | AH3: 34 | AI3: 35 | AJ3: 36 | AK3: 37 | AL3: 38 | AM3: 39 | AN3: 40 | AO3: 41 | AP3: 42 | AQ3: 43 | AR3: 44 | AS3: 45 | AT3: 46 | AU3: 47 | AV3: 48 | AW3: 49 | AX3: 50 | AY3: 51 | AZ3: 52 | BA3: 53 | BB3: 54 | BC3: 55 | BD3: 56 | BE3: 57 | BF3: 58 | BG3: 59 | BH3: 60 | BI3: 61 | BJ3: 62 | BK3: 63 | BL3: 64 | BM3: 65 | BN3: 66 | BO3: 67 | BP3: 68 | BQ3: 69 | BR3: 70 | BS3: 71 | BT3: 72 | BU3: 73 | BV3: 74 | BW3: 75 | BX3: 76 | BY3: 77 | BZ3: 78 | CA3: 79 | CB3: 80 | CC3: 81 | CD3: 82 | CE3: 83 | CF3: 84 | CG3: 85 | CH3: 86 | CI3: 87 | CJ3: 88 | CK3: 89 | CL3: 90 | CM3: 91 | CN3: 92 | CO3: 93 | CP3: 94 | CQ3: 95 | CR3: 96 | CS3: 97 | CT3: 98 | CU3: 99 | CV3: 100
A5: Nadaktywność i impulsywność
A6: 1 | K6: 1.11 | Q6: 1.22 | W6: 1.33 | Z6: 1.38 | AC6: 1.44 | AJ6: 1.56 | AP6: 1.67 | AV6: 1.78 | AZ6: 1.89 | BD6: 2 | BG6: 2.11 | BK6: 2.22 | BN6: 2.25 | BO6: 2.33 | BP6: 2.38 | BQ6: 2.43 | BS6: 2.44 | BV6: 2.56 | BY6: 2.67 | CA6: 2.78 | CB6: 2.88 | CC6: 2.89 | CE6: 3 | CG6: 3.11 | CI6: 3.13 | CJ6: 3.22 | CK6: 3.33 | CL6: 3.44 | CM6: 3.56 | CN6: 3.67 | CP6: 3.78 | CQ6: 3.89 | CR6: 4.11 | CS6: 4.22 | CT6: 4.44 | CU6: 4.67 | CV6: 5
A7: 1 | B7: 2 | C7: 3 | D7: 4 | E7: 5 | F7: 6 | G7: 7 | H7: 8 | I7: 9 | J7: 10 | K7: 11 | L7: 12 | M7: 13 | N7: 14 | O7: 15 | P7: 16 | Q7: 17 | R7: 18 | S7: 19 | T7: 20 | U7: 21 | V7: 22 | W7: 23 | X7: 24 | Y7: 25 | Z7: 26 | AA7: 27 | AB7: 28 | AC7: 29 | AD7: 30 | AE7: 31 | AF7: 32 | AG7: 33 | AH7: 34 | AI7: 35 | AJ7: 36 | AK7: 37 | AL7: 38 | AM7: 39 | AN7: 40 | AO7: 41 | AP7: 42 | AQ7: 43 | AR7: 44 | AS7: 45 | AT7: 46 | AU7: 47 | AV7: 48 | AW7: 49 | AX7: 50 | AY7: 51 | AZ7: 52 | BA7: 53 | BB7: 54 | BC7: 55 | BD7: 56 | BE7: 57 | BF7: 58 | BG7: 59 | BH7: 60 | BI7: 61 | BJ7: 62 | BK7: 63 | BL7: 64 | BM7: 65 | BN7: 66 | BO7: 67 | BP7: 68 | BQ7: 69 | BR7: 70 | BS7: 71 | BT7: 72 | BU7: 73 | BV7: 74 | BW7: 75 | BX7: 76 | BY7: 77 | BZ7: 78 | CA7: 79 | CB7: 80 | CC7: 81 | CD7: 82 | CE7: 83 | CF7: 84 | CG7: 85 | CH7: 86 | CI7: 87 | CJ7: 88 | CK7: 89 | CL7: 90 | CM7: 91 | CN7: 92 | CO7: 93 | CP7: 94 | CQ7: 95 | CR7: 96 | CS7: 97 | CT7: 98 | CU7: 99 | CV7: 100
A9: Agresja bezpośrednia
A10: 1 | W10: 1.11 | AH10: 1.22 | AT10: 1.33 | BC10: 1.44 | BG10: 1.5 | BJ10: 1.56 | BO10: 1.67 | BR10: 1.75 | BT10: 1.78 | BW10: 1.89 | BZ10: 2 | CC10: 2.11 | CE10: 2.22 | CF10: 2.29 | CG10: 2.33 | CI10: 2.44 | CK10: 2.56 | CM10: 2.67 | CN10: 2.78 | CO10: 2.89 | CP10: 3 | CQ10: 3.14 | CR10: 3.33 | CS10: 3.44 | CT10: 3.56 | CU10: 4 | CV10: 4.89
A11: 1 | B11: 2 | C11: 3 | D11: 4 | E11: 5 | F11: 6 | G11: 7 | H11: 8 | I11: 9 | J11: 10 | K11: 11 | L11: 12 | M11: 13 | N11: 14 | O11: 15 | P11: 16 | Q11: 17 | R11: 18 | S11: 19 | T11: 20 | U11: 21 | V11: 22 | W11: 23 | X11: 24 | Y11: 25 | Z11: 26 | AA11: 27 | AB11: 28 | AC11: 29 | AD11: 30 | AE11: 31 | AF11: 32 | AG11: 33 | AH11: 34 | AI11: 35 | AJ11: 36 | AK11: 37 | AL11: 38 | AM11: 39 | AN11: 40 | AO11: 41 | AP11: 42 | AQ11: 43 | AR11: 44 | AS11: 45 | AT11: 46 | AU11: 47 | AV11: 48 | AW11: 49 | AX11: 50 | AY11: 51 | AZ11: 52 | BA11: 53 | BB11: 54 | BC11: 55 | BD11: 56 | BE11: 57 | BF11: 58 | BG11: 59 | BH11: 60 | BI11: 61 | BJ11: 62 | BK11: 63 | BL11: 64 | BM11: 65 | BN11: 66 | BO11: 67 | BP11: 68 | BQ11: 69 | BR11: 70 | BS11: 71 | BT11: 72 | BU11: 73 | BV11: 74 | BW11: 75 | BX11: 76 | BY11: 77 | BZ11: 78 | CA11: 79 | CB11: 80 | CC11: 81 | CD11: 82 | CE11: 83 | CF11: 84 | CG11: 85 | CH11: 86 | CI11: 87 | CJ11: 88 | CK11: 89 | CL11: 90 | CM11: 91 | CN11: 92 | CO11: 93 | CP11: 94 | CQ11: 95 | CR11: 96 | CS11: 97 | CT11: 98 | CU11: 99 | CV11: 100
A13: Zachowania antyspołeczne
A14: 1 | R14: 1.11 | AF14: 1.22 | AK14: 1.25 | AL14: 1.29 | AP14: 1.33 | AX14: 1.44 | BD14: 1.56 | BF14: 1.63 | BJ14: 1.67 | BP14: 1.78 | BW14: 1.89 | CA14: 2 | CC14: 2.11 | CE14: 2.13 | CF14: 2.22 | CH14: 2.33 | CI14: 2.38 | CJ14: 2.43 | CL14: 2.56 | CN14: 2.67 | CO14: 2.78 | CP14: 2.89 | CQ14: 3 | CR14: 3.22 | CS14: 3.44 | CT14: 3.67 | CU14: 4 | CV14: 4.11
A15: 1 | B15: 2 | C15: 3 | D15: 4 | E15: 5 | F15: 6 | G15: 7 | H15: 8 | I15: 9 | J15: 10 | K15: 11 | L15: 12 | M15: 13 | N15: 14 | O15: 15 | P15: 16 | Q15: 17 | R15: 18 | S15: 19 | T15: 20 | U15: 21 | V15: 22 | W15: 23 | X15: 24 | Y15: 25 | Z15: 26 | AA15: 27 | AB15: 28 | AC15: 29 | AD15: 30 | AE15: 31 | AF15: 32 | AG15: 33 | AH15: 34 | AI15: 35 | AJ15: 36 | AK15: 37 | AL15: 38 | AM15: 39 | AN15: 40 | AO15: 41 | AP15: 42 | AQ15: 43 | AR15: 44 | AS15: 45 | AT15: 46 | AU15: 47 | AV15: 48 | AW15: 49 | AX15: 50 | AY15: 51 | AZ15: 52 | BA15: 53 | BB15: 54 | BC15: 55 | BD15: 56 | BE15: 57 | BF15: 58 | BG15: 59 | BH15: 60 | BI15: 61 | BJ15: 62 | BK15: 63 | BL15: 64 | BM15: 65 | BN15: 66 | BO15: 67 | BP15: 68 | BQ15: 69 | BR15: 70 | BS15: 71 | BT15: 72 | BU15: 73 | BV15: 74 | BW15: 75 | BX15: 76 | BY15: 77 | BZ15: 78 | CA15: 79 | CB15: 80 | CC15: 81 | CD15: 82 | CE15: 83 | CF15: 84 | CG15: 85 | CH15: 86 | CI15: 87 | CJ15: 88 | CK15: 89 | CL15: 90 | CM15: 91 | CN15: 92 | CO15: 93 | CP15: 94 | CQ15: 95 | CR15: 96 | CS15: 97 | CT15: 98 | CU15: 99 | CV15: 100
A17: PROBLEMY INTERNALIZACYJNE
A18: 1 | F18: 1.04 | H18: 1.07 | J18: 1.11 | K18: 1.12 | L18: 1.15 | N18: 1.19 | O18: 1.19 | R18: 1.22 | U18: 1.26 | V18: 1.3 | X18: 1.33 | Y18: 1.37 | AB18: 1.41 | AD18: 1.44 | AE18: 1.48 | AG18: 1.52 | AH18: 1.57 | AI18: 1.59 | AJ18: 1.63 | AK18: 1.67 | AL18: 1.7 | AM18: 1.74 | AO18: 1.78 | AQ18: 1.81 | AS18: 1.85 | AU18: 1.89 | AW18: 1.93 | AX18: 1.96 | AY18: 2 | AZ18: 2.04 | BB18: 2.07 | BC18: 2.11 | BD18: 2.15 | BE18: 2.19 | BF18: 2.19 | BG18: 2.22 | BH18: 2.26 | BI18: 2.3 | BJ18: 2.37 | BK18: 2.41 | BL18: 2.44 | BM18: 2.5 | BN18: 2.52 | BO18: 2.56 | BP18: 2.59 | BQ18: 2.63 | BR18: 2.7 | BS18: 2.74 | BT18: 2.77 | BU18: 2.78 | BV18: 2.81 | BW18: 2.85 | BX18: 2.89 | BY18: 2.92 | BZ18: 2.96 | CA18: 3 | CB18: 3.04 | CC18: 3.07 | CD18: 3.11 | CE18: 3.13 | CF18: 3.19 | CG18: 3.22 | CH18: 3.26 | CI18: 3.37 | CJ18: 3.42 | CK18: 3.44 | CL18: 3.48 | CM18: 3.52 | CO18: 3.59 | CP18: 3.63 | CQ18: 3.7 | CR18: 3.81 | CS18: 4 | CT18: 4.04 | CU18: 4.3 | CV18: 4.63
A19: 1 | B19: 2 | C19: 3 | D19: 4 | E19: 5 | F19: 6 | G19: 7 | H19: 8 | I19: 9 | J19: 10 | K19: 11 | L19: 12 | M19: 13 | N19: 14 | O19: 15 | P19: 16 | Q19: 17 | R19: 18 | S19: 19 | T19: 20 | U19: 21 | V19: 22 | W19: 23 | X19: 24 | Y19: 25 | Z19: 26 | AA19: 27 | AB19: 28 | AC19: 29 | AD19: 30 | AE19: 31 | AF19: 32 | AG19: 33 | AH19: 34 | AI19: 35 | AJ19: 36 | AK19: 37 | AL19: 38 | AM19: 39 | AN19: 40 | AO19: 41 | AP19: 42 | AQ19: 43 | AR19: 44 | AS19: 45 | AT19: 46 | AU19: 47 | AV19: 48 | AW19: 49 | AX19: 50 | AY19: 51 | AZ19: 52 | BA19: 53 | BB19: 54 | BC19: 55 | BD19: 56 | BE19: 57 | BF19: 58 | BG19: 59 | BH19: 60 | BI19: 61 | BJ19: 62 | BK19: 63 | BL19: 64 | BM19: 65 | BN19: 66 | BO19: 67 | BP19: 68 | BQ19: 69 | BR19: 70 | BS19: 71 | BT19: 72 | BU19: 73 | BV19: 74 | BW19: 75 | BX19: 76 | BY19: 77 | BZ19: 78 | CA19: 79 | CB19: 80 | CC19: 81 | CD19: 82 | CE19: 83 | CF19: 84 | CG19: 85 | CH19: 86 | CI19: 87 | CJ19: 88 | CK19: 89 | CL19: 90 | CM19: 91 | CN19: 92 | CO19: 93 | CP19: 94 | CQ19: 95 | CR19: 96 | CS19: 97 | CT19: 98 | CU19: 99 | CV19: 100
A21: Nieufność-ksobność
A22: 1 | R22: 1.11 | X22: 1.22 | AC22: 1.33 | AH22: 1.44 | AM22: 1.56 | AR22: 1.67 | AU22: 1.75 | AW22: 1.78 | AY22: 1.88 | BA22: 1.89 | BD22: 2 | BG22: 2.11 | BJ22: 2.22 | BK22: 2.25 | BM22: 2.33 | BO22: 2.44 | BS22: 2.56 | BU22: 2.57 | BW22: 2.67 | BY22: 2.75 | BZ22: 2.78 | CC22: 2.89 | CF22: 3 | CH22: 3.11 | CJ22: 3.22 | CL22: 3.33 | CN22: 3.44 | CP22: 3.56 | CQ22: 3.67 | CR22: 3.78 | CS22: 3.89 | CT22: 4.11 | CU22: 4.22 | CV22: 4.56
A23: 1 | B23: 2 | C23: 3 | D23: 4 | E23: 5 | F23: 6 | G23: 7 | H23: 8 | I23: 9 | J23: 10 | K23: 11 | L23: 12 | M23: 13 | N23: 14 | O23: 15 | P23: 16 | Q23: 17 | R23: 18 | S23: 19 | T23: 20 | U23: 21 | V23: 22 | W23: 23 | X23: 24 | Y23: 25 | Z23: 26 | AA23: 27 | AB23: 28 | AC23: 29 | AD23: 30 | AE23: 31 | AF23: 32 | AG23: 33 | AH23: 34 | AI23: 35 | AJ23: 36 | AK23: 37 | AL23: 38 | AM23: 39 | AN23: 40 | AO23: 41 | AP23: 42 | AQ23: 43 | AR23: 44 | AS23: 45 | AT23: 46 | AU23: 47 | AV23: 48 | AW23: 49 | AX23: 50 | AY23: 51 | AZ23: 52 | BA23: 53 | BB23: 54 | BC23: 55 | BD23: 56 | BE23: 57 | BF23: 58 | BG23: 59 | BH23: 60 | BI23: 61 | BJ23: 62 | BK23: 63 | BL23: 64 | BM23: 65 | BN23: 66 | BO23: 67 | BP23: 68 | BQ23: 69 | BR23: 70 | BS23: 71 | BT23: 72 | BU23: 73 | BV23: 74 | BW23: 75 | BX23: 76 | BY23: 77 | BZ23: 78 | CA23: 79 | CB23: 80 | CC23: 81 | CD23: 82 | CE23: 83 | CF23: 84 | CG23: 85 | CH23: 86 | CI23: 87 | CJ23: 88 | CK23: 89 | CL23: 90 | CM23: 91 | CN23: 92 | CO23: 93 | CP23: 94 | CQ23: 95 | CR23: 96 | CS23: 97 | CT23: 98 | CU23: 99 | CV23: 100
A25: Lęk-depresja
A26: 1 | N26: 1.11 | T26: 1.22 | Y26: 1.33 | AB26: 1.44 | AF26: 1.56 | AI26: 1.67 | AL26: 1.78 | AO26: 1.89 | AS26: 2 | AV26: 2.11 | AX26: 2.13 | AZ26: 2.22 | BD26: 2.33 | BF26: 2.38 | BG26: 2.44 | BJ26: 2.56 | BM26: 2.67 | BP26: 2.78 | BR26: 2.89 | BV26: 3 | BY26: 3.11 | BZ26: 3.13 | CA26: 3.22 | CC26: 3.33 | CE26: 3.44 | CG26: 3.56 | CH26: 3.6 | CI26: 3.67 | CJ26: 3.78 | CK26: 3.89 | CL26: 4 | CM26: 4.11 | CN26: 4.17 | CO26: 4.33 | CP26: 4.44 | CQ26: 4.56 | CR26: 4.67 | CS26: 4.78 | CT26: 4.89 | CU26: 5
A27: 1 | B27: 2 | C27: 3 | D27: 4 | E27: 5 | F27: 6 | G27: 7 | H27: 8 | I27: 9 | J27: 10 | K27: 11 | L27: 12 | M27: 13 | N27: 14 | O27: 15 | P27: 16 | Q27: 17 | R27: 18 | S27: 19 | T27: 20 | U27: 21 | V27: 22 | W27: 23 | X27: 24 | Y27: 25 | Z27: 26 | AA27: 27 | AB27: 28 | AC27: 29 | AD27: 30 | AE27: 31 | AF27: 32 | AG27: 33 | AH27: 34 | AI27: 35 | AJ27: 36 | AK27: 37 | AL27: 38 | AM27: 39 | AN27: 40 | AO27: 41 | AP27: 42 | AQ27: 43 | AR27: 44 | AS27: 45 | AT27: 46 | AU27: 47 | AV27: 48 | AW27: 49 | AX27: 50 | AY27: 51 | AZ27: 52 | BA27: 53 | BB27: 54 | BC27: 55 | BD27: 56 | BE27: 57 | BF27: 58 | BG27: 59 | BH27: 60 | BI27: 61 | BJ27: 62 | BK27: 63 | BL27: 64 | BM27: 65 | BN27: 66 | BO27: 67 | BP27: 68 | BQ27: 69 | BR27: 70 | BS27: 71 | BT27: 72 | BU27: 73 | BV27: 74 | BW27: 75 | BX27: 76 | BY27: 77 | BZ27: 78 | CA27: 79 | CB27: 80 | CC27: 81 | CD27: 82 | CE27: 83 | CF27: 84 | CG27: 85 | CH27: 86 | CI27: 87 | CJ27: 88 | CK27: 89 | CL27: 90 | CM27: 91 | CN27: 92 | CO27: 93 | CP27: 94 | CQ27: 95 | CR27: 96 | CS27: 97 | CT27: 98 | CU27: 99 | CV27: 100
A29: Zahamowanie społeczne
A30: 1 | Q30: 1.11 | S30: 1.13 | V30: 1.22 | AA30: 1.33 | AD30: 1.38 | AG30: 1.44 | AL30: 1.56 | AN30: 1.63 | AP30: 1.67 | AS30: 1.78 | AW30: 1.89 | AZ30: 2 | BC30: 2.11 | BG30: 2.22 | BK30: 2.33 | BN30: 2.44 | BP30: 2.56 | BS30: 2.67 | BU30: 2.75 | BV30: 2.78 | BY30: 2.89 | CA30: 3 | CD30: 3.11 | CE30: 3.13 | CF30: 3.22 | CH30: 3.33 | CJ30: 3.44 | CL30: 3.56 | CN30: 3.67 | CO30: 3.78 | CQ30: 3.89 | CR30: 4 | CS30: 4.11 | CT30: 4.33 | CU30: 4.56 | CV30: 4.89
A31: 1 | B31: 2 | C31: 3 | D31: 4 | E31: 5 | F31: 6 | G31: 7 | H31: 8 | I31: 9 | J31: 10 | K31: 11 | L31: 12 | M31: 13 | N31: 14 | O31: 15 | P31: 16 | Q31: 17 | R31: 18 | S31: 19 | T31: 20 | U31: 21 | V31: 22 | W31: 23 | X31: 24 | Y31: 25 | Z31: 26 | AA31: 27 | AB31: 28 | AC31: 29 | AD31: 30 | AE31: 31 | AF31: 32 | AG31: 33 | AH31: 34 | AI31: 35 | AJ31: 36 | AK31: 37 | AL31: 38 | AM31: 39 | AN31: 40 | AO31: 41 | AP31: 42 | AQ31: 43 | AR31: 44 | AS31: 45 | AT31: 46 | AU31: 47 | AV31: 48 | AW31: 49 | AX31: 50 | AY31: 51 | AZ31: 52 | BA31: 53 | BB31: 54 | BC31: 55 | BD31: 56 | BE31: 57 | BF31: 58 | BG31: 59 | BH31: 60 | BI31: 61 | BJ31: 62 | BK31: 63 | BL31: 64 | BM31: 65 | BN31: 66 | BO31: 67 | BP31: 68 | BQ31: 69 | BR31: 70 | BS31: 71 | BT31: 72 | BU31: 73 | BV31: 74 | BW31: 75 | BX31: 76 | BY31: 77 | BZ31: 78 | CA31: 79 | CB31: 80 | CC31: 81 | CD31: 82 | CE31: 83 | CF31: 84 | CG31: 85 | CH31: 86 | CI31: 87 | CJ31: 88 | CK31: 89 | CL31: 90 | CM31: 91 | CN31: 92 | CO31: 93 | CP31: 94 | CQ31: 95 | CR31: 96 | CS31: 97 | CT31: 98 | CU31: 99 | CV31: 100
A33: PROBLEMY PSYCHASTENICZNE
A34: 1 | B34: 1.39 | C34: 1.44 | D34: 1.61 | E34: 1.67 | F34: 1.78 | G34: 1.83 | H34: 1.88 | I34: 1.89 | K34: 1.94 | L34: 1.94 | O34: 2 | R34: 2.06 | U34: 2.11 | X34: 2.17 | Z34: 2.18 | AB34: 2.22 | AE34: 2.28 | AH34: 2.33 | AJ34: 2.35 | AK34: 2.39 | AM34: 2.41 | AN34: 2.44 | AP34: 2.47 | AR34: 2.5 | AT34: 2.53 | AV34: 2.56 | AZ34: 2.61 | BC34: 2.67 | BF34: 2.69 | BG34: 2.72 | BI34: 2.75 | BJ34: 2.78 | BK34: 2.82 | BM34: 2.83 | BP34: 2.89 | BT34: 2.94 | BY34: 3 | CA34: 3.06 | CC34: 3.11 | CD34: 3.13 | CF34: 3.17 | CH34: 3.22 | CI34: 3.24 | CJ34: 3.28 | CK34: 3.33 | CL34: 3.39 | CM34: 3.41 | CN34: 3.44 | CO34: 3.5 | CQ34: 3.56 | CR34: 3.61 | CS34: 3.71 | CT34: 3.72 | CU34: 3.89 | CV34: 4.11
A35: 1 | B35: 2 | C35: 3 | D35: 4 | E35: 5 | F35: 6 | G35: 7 | H35: 8 | I35: 9 | J35: 10 | K35: 11 | L35: 12 | M35: 13 | N35: 14 | O35: 15 | P35: 16 | Q35: 17 | R35: 18 | S35: 19 | T35: 20 | U35: 21 | V35: 22 | W35: 23 | X35: 24 | Y35: 25 | Z35: 26 | AA35: 27 | AB35: 28 | AC35: 29 | AD35: 30 | AE35: 31 | AF35: 32 | AG35: 33 | AH35: 34 | AI35: 35 | AJ35: 36 | AK35: 37 | AL35: 38 | AM35: 39 | AN35: 40 | AO35: 41 | AP35: 42 | AQ35: 43 | AR35: 44 | AS35: 45 | AT35: 46 | AU35: 47 | AV35: 48 | AW35: 49 | AX35: 50 | AY35: 51 | AZ35: 52 | BA35: 53 | BB35: 54 | BC35: 55 | BD35: 56 | BE35: 57 | BF35: 58 | BG35: 59 | BH35: 60 | BI35: 61 | BJ35: 62 | BK35: 63 | BL35: 64 | BM35: 65 | BN35: 66 | BO35: 67 | BP35: 68 | BQ35: 69 | BR35: 70 | BS35: 71 | BT35: 72 | BU35: 73 | BV35: 74 | BW35: 75 | BX35: 76 | BY35: 77 | BZ35: 78 | CA35: 79 | CB35: 80 | CC35: 81 | CD35: 82 | CE35: 83 | CF35: 84 | CG35: 85 | CH35: 86 | CI35: 87 | CJ35: 88 | CK35: 89 | CL35: 90 | CM35: 91 | CN35: 92 | CO35: 93 | CP35: 94 | CQ35: 95 | CR35: 96 | CS35: 97 | CT35: 98 | CU35: 99 | CV35: 100
A37: Anhedonia
A38: 1 | F38: 1.17 | I38: 1.33 | M38: 1.5 | S38: 1.67 | Z38: 1.83 | AG38: 2 | AN38: 2.17 | AR38: 2.2 | AV38: 2.33 | BC38: 2.5 | BG38: 2.6 | BJ38: 2.67 | BN38: 2.8 | BQ38: 2.83 | BW38: 3 | CC38: 3.17 | CF38: 3.2 | CG38: 3.25 | CJ38: 3.33 | CN38: 3.5 | CP38: 3.67 | CQ38: 3.83 | CS38: 4 | CT38: 4.17 | CU38: 4.5 | CV38: 5
A39: 1 | B39: 2 | C39: 3 | D39: 4 | E39: 5 | F39: 6 | G39: 7 | H39: 8 | I39: 9 | J39: 10 | K39: 11 | L39: 12 | M39: 13 | N39: 14 | O39: 15 | P39: 16 | Q39: 17 | R39: 18 | S39: 19 | T39: 20 | U39: 21 | V39: 22 | W39: 23 | X39: 24 | Y39: 25 | Z39: 26 | AA39: 27 | AB39: 28 | AC39: 29 | AD39: 30 | AE39: 31 | AF39: 32 | AG39: 33 | AH39: 34 | AI39: 35 | AJ39: 36 | AK39: 37 | AL39: 38 | AM39: 39 | AN39: 40 | AO39: 41 | AP39: 42 | AQ39: 43 | AR39: 44 | AS39: 45 | AT39: 46 | AU39: 47 | AV39: 48 | AW39: 49 | AX39: 50 | AY39: 51 | AZ39: 52 | BA39: 53 | BB39: 54 | BC39: 55 | BD39: 56 | BE39: 57 | BF39: 58 | BG39: 59 | BH39: 60 | BI39: 61 | BJ39: 62 | BK39: 63 | BL39: 64 | BM39: 65 | BN39: 66 | BO39: 67 | BP39: 68 | BQ39: 69 | BR39: 70 | BS39: 71 | BT39: 72 | BU39: 73 | BV39: 74 | BW39: 75 | BX39: 76 | BY39: 77 | BZ39: 78 | CA39: 79 | CB39: 80 | CC39: 81 | CD39: 82 | CE39: 83 | CF39: 84 | CG39: 85 | CH39: 86 | CI39: 87 | CJ39: 88 | CK39: 89 | CL39: 90 | CM39: 91 | CN39: 92 | CO39: 93 | CP39: 94 | CQ39: 95 | CR39: 96 | CS39: 97 | CT39: 98 | CU39: 99 | CV39: 100
A41: Submisyjność
A42: 1 | I42: 1.17 | P42: 1.33 | W42: 1.5 | AB42: 1.67 | AE42: 1.8 | AI42: 1.83 | AQ42: 2 | AW42: 2.17 | AZ42: 2.2 | BC42: 2.33 | BI42: 2.5 | BO42: 2.67 | BS42: 2.83 | BW42: 3 | CC42: 3.17 | CG42: 3.33 | CK42: 3.5 | CN42: 3.67 | CO42: 3.8 | CP42: 3.83 | CR42: 4 | CT42: 4.17 | CU42: 4.83 | CV42: 5
A43: 1 | B43: 2 | C43: 3 | D43: 4 | E43: 5 | F43: 6 | G43: 7 | H43: 8 | I43: 9 | J43: 10 | K43: 11 | L43: 12 | M43: 13 | N43: 14 | O43: 15 | P43: 16 | Q43: 17 | R43: 18 | S43: 19 | T43: 20 | U43: 21 | V43: 22 | W43: 23 | X43: 24 | Y43: 25 | Z43: 26 | AA43: 27 | AB43: 28 | AC43: 29 | AD43: 30 | AE43: 31 | AF43: 32 | AG43: 33 | AH43: 34 | AI43: 35 | AJ43: 36 | AK43: 37 | AL43: 38 | AM43: 39 | AN43: 40 | AO43: 41 | AP43: 42 | AQ43: 43 | AR43: 44 | AS43: 45 | AT43: 46 | AU43: 47 | AV43: 48 | AW43: 49 | AX43: 50 | AY43: 51 | AZ43: 52 | BA43: 53 | BB43: 54 | BC43: 55 | BD43: 56 | BE43: 57 | BF43: 58 | BG43: 59 | BH43: 60 | BI43: 61 | BJ43: 62 | BK43: 63 | BL43: 64 | BM43: 65 | BN43: 66 | BO43: 67 | BP43: 68 | BQ43: 69 | BR43: 70 | BS43: 71 | BT43: 72 | BU43: 73 | BV43: 74 | BW43: 75 | BX43: 76 | BY43: 77 | BZ43: 78 | CA43: 79 | CB43: 80 | CC43: 81 | CD43: 82 | CE43: 83 | CF43: 84 | CG43: 85 | CH43: 86 | CI43: 87 | CJ43: 88 | CK43: 89 | CL43: 90 | CM43: 91 | CN43: 92 | CO43: 93 | CP43: 94 | CQ43: 95 | CR43: 96 | CS43: 97 | CT43: 98 | CU43: 99 | CV43: 100
A45: Kompulsywność
A46: 1 | C46: 1.33 | E46: 1.67 | F46: 1.8 | G46: 1.83 | K46: 2 | O46: 2.17 | S46: 2.33 | U46: 2.4 | X46: 2.5 | AD46: 2.67 | AK46: 2.83 | AT46: 3 | BC46: 3.17 | BI46: 3.33 | BQ46: 3.5 | BX46: 3.67 | CB46: 3.8 | CF46: 3.83 | CK46: 4 | CO46: 4.17 | CQ46: 4.33 | CS46: 4.5 | CT46: 4.67 | CU46: 5
A47: 1 | B47: 2 | C47: 3 | D47: 4 | E47: 5 | F47: 6 | G47: 7 | H47: 8 | I47: 9 | J47: 10 | K47: 11 | L47: 12 | M47: 13 | N47: 14 | O47: 15 | P47: 16 | Q47: 17 | R47: 18 | S47: 19 | T47: 20 | U47: 21 | V47: 22 | W47: 23 | X47: 24 | Y47: 25 | Z47: 26 | AA47: 27 | AB47: 28 | AC47: 29 | AD47: 30 | AE47: 31 | AF47: 32 | AG47: 33 | AH47: 34 | AI47: 35 | AJ47: 36 | AK47: 37 | AL47: 38 | AM47: 39 | AN47: 40 | AO47: 41 | AP47: 42 | AQ47: 43 | AR47: 44 | AS47: 45 | AT47: 46 | AU47: 47 | AV47: 48 | AW47: 49 | AX47: 50 | AY47: 51 | AZ47: 52 | BA47: 53 | BB47: 54 | BC47: 55 | BD47: 56 | BE47: 57 | BF47: 58 | BG47: 59 | BH47: 60 | BI47: 61 | BJ47: 62 | BK47: 63 | BL47: 64 | BM47: 65 | BN47: 66 | BO47: 67 | BP47: 68 | BQ47: 69 | BR47: 70 | BS47: 71 | BT47: 72 | BU47: 73 | BV47: 74 | BW47: 75 | BX47: 76 | BY47: 77 | BZ47: 78 | CA47: 79 | CB47: 80 | CC47: 81 | CD47: 82 | CE47: 83 | CF47: 84 | CG47: 85 | CH47: 86 | CI47: 87 | CJ47: 88 | CK47: 89 | CL47: 90 | CM47: 91 | CN47: 92 | CO47: 93 | CP47: 94 | CQ47: 95 | CR47: 96 | CS47: 97 | CT47: 98 | CU47: 99 | CV47: 100
A49: DOBROSTAN
A50: 1 | B50: 1.94 | C50: 2.18 | D50: 2.11 | E50: 2.28 | F50: 2.33 | G50: 2.39 | H50: 2.44 | I50: 2.53 | J50: 2.57 | K50: 2.61 | L50: 2.67 | M50: 2.72 | N50: 2.78 | O50: 2.83 | Q50: 2.89 | R50: 2.94 | S50: 2.94 | U50: 3 | V50: 3.06 | X50: 3.11 | Z50: 3.12 | AA50: 3.17 | AC50: 3.22 | AD50: 3.24 | AE50: 3.25 | AF50: 3.28 | AI50: 3.33 | AL50: 3.39 | AO50: 3.44 | AR50: 3.5 | AT50: 3.56 | AV50: 3.59 | AW50: 3.61 | BA50: 3.67 | BD50: 3.72 | BF50: 3.78 | BG50: 3.82 | BI50: 3.83 | BL50: 3.89 | BM50: 3.94 | BO50: 3.94 | BS50: 4 | BV50: 4.06 | BW50: 4.06 | BX50: 4.11 | BZ50: 4.17 | CA50: 4.22 | CB50: 4.25 | CD50: 4.28 | CF50: 4.33 | CG50: 4.35 | CI50: 4.39 | CK50: 4.44 | CL50: 4.5 | CN50: 4.56 | CO50: 4.61 | CP50: 4.67 | CQ50: 4.72 | CR50: 4.78 | CS50: 4.83 | CT50: 4.89 | CU50: 5
A51: 1 | B51: 2 | C51: 3 | D51: 4 | E51: 5 | F51: 6 | G51: 7 | H51: 8 | I51: 9 | J51: 10 | K51: 11 | L51: 12 | M51: 13 | N51: 14 | O51: 15 | P51: 16 | Q51: 17 | R51: 18 | S51: 19 | T51: 20 | U51: 21 | V51: 22 | W51: 23 | X51: 24 | Y51: 25 | Z51: 26 | AA51: 27 | AB51: 28 | AC51: 29 | AD51: 30 | AE51: 31 | AF51: 32 | AG51: 33 | AH51: 34 | AI51: 35 | AJ51: 36 | AK51: 37 | AL51: 38 | AM51: 39 | AN51: 40 | AO51: 41 | AP51: 42 | AQ51: 43 | AR51: 44 | AS51: 45 | AT51: 46 | AU51: 47 | AV51: 48 | AW51: 49 | AX51: 50 | AY51: 51 | AZ51: 52 | BA51: 53 | BB51: 54 | BC51: 55 | BD51: 56 | BE51: 57 | BF51: 58 | BG51: 59 | BH51: 60 | BI51: 61 | BJ51: 62 | BK51: 63 | BL51: 64 | BM51: 65 | BN51: 66 | BO51: 67 | BP51: 68 | BQ51: 69 | BR51: 70 | BS51: 71 | BT51: 72 | BU51: 73 | BV51: 74 | BW51: 75 | BX51: 76 | BY51: 77 | BZ51: 78 | CA51: 79 | CB51: 80 | CC51: 81 | CD51: 82 | CE51: 83 | CF51: 84 | CG51: 85 | CH51: 86 | CI51: 87 | CJ51: 88 | CK51: 89 | CL51: 90 | CM51: 91 | CN51: 92 | CO51: 93 | CP51: 94 | CQ51: 95 | CR51: 96 | CS51: 97 | CT51: 98 | CU51: 99 | CV51: 100
A53: Dobrostan społeczny
...
